BEGIN:VCALENDAR
VERSION:2.0
PRODID:-//The Long Island Woodworkers - ECPv4.9.9//NONSGML v1.0//EN
CALSCALE:GREGORIAN
METHOD:PUBLISH
X-WR-CALNAME:The Long Island Woodworkers
X-ORIGINAL-URL:https://liwoodworkers.org
X-WR-CALDESC:Events for The Long Island Woodworkers
BEGIN:VTIMEZONE
TZID:America/New_York
BEGIN:DAYLIGHT
TZOFFSETFROM:-0500
TZOFFSETTO:-0400
TZNAME:EDT
DTSTART:20170312T070000
END:DAYLIGHT
BEGIN:STANDARD
TZOFFSETFROM:-0400
TZOFFSETTO:-0500
TZNAME:EST
DTSTART:20171105T060000
END:STANDARD
END:VTIMEZONE
BEGIN:VEVENT
DTSTART;TZID=America/New_York:20170215T190000
DTEND;TZID=America/New_York:20170215T190000
DTSTAMP:20260420T101754
CREATED:20170111T141943Z
LAST-MODIFIED:20170204T184257Z
UID:2191-1487185200-1487185200@liwoodworkers.org
SUMMARY:Art league Turners Meeting
DESCRIPTION:Epoxy filling \n
URL:https://liwoodworkers.org/event/art-league-turners-meeting-2/
END:VEVENT
END:VCALENDAR