BEGIN:VCALENDAR
VERSION:2.0
PRODID:-//The Long Island Woodworkers - ECPv4.9.9//NONSGML v1.0//EN
CALSCALE:GREGORIAN
METHOD:PUBLISH
X-WR-CALNAME:The Long Island Woodworkers
X-ORIGINAL-URL:https://liwoodworkers.org
X-WR-CALDESC:Events for The Long Island Woodworkers
BEGIN:VTIMEZONE
TZID:America/New_York
BEGIN:DAYLIGHT
TZOFFSETFROM:-0500
TZOFFSETTO:-0400
TZNAME:EDT
DTSTART:20180311T070000
END:DAYLIGHT
BEGIN:STANDARD
TZOFFSETFROM:-0400
TZOFFSETTO:-0500
TZNAME:EST
DTSTART:20181104T060000
END:STANDARD
END:VTIMEZONE
BEGIN:VEVENT
DTSTART;TZID=America/New_York:20180418T190000
DTEND;TZID=America/New_York:20180418T210000
DTSTAMP:20260420T231820
CREATED:20180221T153018Z
LAST-MODIFIED:20180221T153018Z
UID:3370-1524078000-1524085200@liwoodworkers.org
SUMMARY:Art League Turners Meeting
DESCRIPTION:
URL:https://liwoodworkers.org/event/art-league-turners-meeting-4/
END:VEVENT
END:VCALENDAR