BEGIN:VCALENDAR
VERSION:2.0
PRODID:-//The Long Island Woodworkers - ECPv4.9.9//NONSGML v1.0//EN
CALSCALE:GREGORIAN
METHOD:PUBLISH
X-WR-CALNAME:The Long Island Woodworkers
X-ORIGINAL-URL:https://liwoodworkers.org
X-WR-CALDESC:Events for The Long Island Woodworkers
BEGIN:VTIMEZONE
TZID:America/New_York
BEGIN:DAYLIGHT
TZOFFSETFROM:-0500
TZOFFSETTO:-0400
TZNAME:EDT
DTSTART:20210314T070000
END:DAYLIGHT
BEGIN:STANDARD
TZOFFSETFROM:-0400
TZOFFSETTO:-0500
TZNAME:EST
DTSTART:20211107T060000
END:STANDARD
END:VTIMEZONE
BEGIN:VEVENT
DTSTART;TZID=America/New_York:20210419T190000
DTEND;TZID=America/New_York:20210419T210000
DTSTAMP:20260420T124321
CREATED:20210411T193316Z
LAST-MODIFIED:20210411T193316Z
UID:9120-1618858800-1618866000@liwoodworkers.org
SUMMARY:Board Meeting
DESCRIPTION:Quarterly LIW Board Meeting via Zoom \n
URL:https://liwoodworkers.org/event/board-meeting-8/
END:VEVENT
END:VCALENDAR