BEGIN:VCALENDAR
VERSION:2.0
PRODID:-//The Long Island Woodworkers - ECPv4.9.9//NONSGML v1.0//EN
CALSCALE:GREGORIAN
METHOD:PUBLISH
X-WR-CALNAME:The Long Island Woodworkers
X-ORIGINAL-URL:https://liwoodworkers.org
X-WR-CALDESC:Events for The Long Island Woodworkers
BEGIN:VTIMEZONE
TZID:America/New_York
BEGIN:DAYLIGHT
TZOFFSETFROM:-0500
TZOFFSETTO:-0400
TZNAME:EDT
DTSTART:20170312T070000
END:DAYLIGHT
BEGIN:STANDARD
TZOFFSETFROM:-0400
TZOFFSETTO:-0500
TZNAME:EST
DTSTART:20171105T060000
END:STANDARD
END:VTIMEZONE
BEGIN:VEVENT
DTSTART;TZID=America/New_York:20171211T183000
DTEND;TZID=America/New_York:20171211T210000
DTSTAMP:20260420T014854
CREATED:20170316T143250Z
LAST-MODIFIED:20170330T001152Z
UID:2382-1513017000-1513026000@liwoodworkers.org
SUMMARY:Board of Directors Meeting
DESCRIPTION:All members in "good standing" are welcome. \n
URL:https://liwoodworkers.org/event/board-of-directors-meeting-3/
LOCATION:New Village Recreation Center\, 20 Wireless Road\, Centereach\, NY\, 11720\, United States
END:VEVENT
END:VCALENDAR