BEGIN:VCALENDAR
VERSION:2.0
PRODID:-//The Long Island Woodworkers - ECPv4.9.9//NONSGML v1.0//EN
CALSCALE:GREGORIAN
METHOD:PUBLISH
X-WR-CALNAME:The Long Island Woodworkers
X-ORIGINAL-URL:https://liwoodworkers.org
X-WR-CALDESC:Events for The Long Island Woodworkers
BEGIN:VTIMEZONE
TZID:America/New_York
BEGIN:DAYLIGHT
TZOFFSETFROM:-0500
TZOFFSETTO:-0400
TZNAME:EDT
DTSTART:20220313T070000
END:DAYLIGHT
BEGIN:STANDARD
TZOFFSETFROM:-0400
TZOFFSETTO:-0500
TZNAME:EST
DTSTART:20221106T060000
END:STANDARD
END:VTIMEZONE
BEGIN:VEVENT
DTSTART;TZID=America/New_York:20220111T190000
DTEND;TZID=America/New_York:20220111T210000
DTSTAMP:20260421T050928
CREATED:20211207T154643Z
LAST-MODIFIED:20220111T161642Z
UID:9663-1641927600-1641934800@liwoodworkers.org
SUMMARY:Cabinet Makers Meeting - Zoom Only - Holiday gift show and tell
DESCRIPTION:
URL:https://liwoodworkers.org/event/cabinet-makers-meeting-64/
END:VEVENT
END:VCALENDAR