BEGIN:VCALENDAR
VERSION:2.0
PRODID:-//The Long Island Woodworkers - ECPv4.9.9//NONSGML v1.0//EN
CALSCALE:GREGORIAN
METHOD:PUBLISH
X-WR-CALNAME:The Long Island Woodworkers
X-ORIGINAL-URL:https://liwoodworkers.org
X-WR-CALDESC:Events for The Long Island Woodworkers
BEGIN:VTIMEZONE
TZID:America/New_York
BEGIN:DAYLIGHT
TZOFFSETFROM:-0500
TZOFFSETTO:-0400
TZNAME:EDT
DTSTART:20220313T070000
END:DAYLIGHT
BEGIN:STANDARD
TZOFFSETFROM:-0400
TZOFFSETTO:-0500
TZNAME:EST
DTSTART:20221106T060000
END:STANDARD
END:VTIMEZONE
BEGIN:VEVENT
DTSTART;TZID=America/New_York:20220329T190000
DTEND;TZID=America/New_York:20220329T210000
DTSTAMP:20260422T010350
CREATED:20220203T145241Z
LAST-MODIFIED:20220306T154704Z
UID:9840-1648580400-1648587600@liwoodworkers.org
SUMMARY:Carvers Meeting - Individual Carving\, chip carving\, ark carving and sundry other carvings
DESCRIPTION:
URL:https://liwoodworkers.org/event/carvers-meeting-57/
LOCATION:Frank Brush Barn\, 211 Middle Country Road\, Smithtown\, United States
END:VEVENT
END:VCALENDAR