BEGIN:VCALENDAR
VERSION:2.0
PRODID:-//The Long Island Woodworkers - ECPv4.9.9//NONSGML v1.0//EN
CALSCALE:GREGORIAN
METHOD:PUBLISH
X-WR-CALNAME:The Long Island Woodworkers
X-ORIGINAL-URL:https://liwoodworkers.org
X-WR-CALDESC:Events for The Long Island Woodworkers
BEGIN:VTIMEZONE
TZID:America/New_York
BEGIN:DAYLIGHT
TZOFFSETFROM:-0500
TZOFFSETTO:-0400
TZNAME:EDT
DTSTART:20240310T070000
END:DAYLIGHT
BEGIN:STANDARD
TZOFFSETFROM:-0400
TZOFFSETTO:-0500
TZNAME:EST
DTSTART:20241103T060000
END:STANDARD
END:VTIMEZONE
BEGIN:VEVENT
DTSTART;TZID=America/New_York:20240926T110000
DTEND;TZID=America/New_York:20240926T130000
DTSTAMP:20260421T020214
CREATED:20231214T154258Z
LAST-MODIFIED:20240307T224627Z
UID:11619-1727348400-1727355600@liwoodworkers.org
SUMMARY:Carvers Meeting
DESCRIPTION:
URL:https://liwoodworkers.org/event/carvers-meeting-84/
LOCATION:The Woodturning Store\, 81A East Jefryn Blvd\, Deer Park\, NY\, 11729\, United States
END:VEVENT
END:VCALENDAR