BEGIN:VCALENDAR
VERSION:2.0
PRODID:-//The Long Island Woodworkers - ECPv4.9.9//NONSGML v1.0//EN
CALSCALE:GREGORIAN
METHOD:PUBLISH
X-WR-CALNAME:The Long Island Woodworkers
X-ORIGINAL-URL:https://liwoodworkers.org
X-WR-CALDESC:Events for The Long Island Woodworkers
BEGIN:VTIMEZONE
TZID:America/New_York
BEGIN:DAYLIGHT
TZOFFSETFROM:-0500
TZOFFSETTO:-0400
TZNAME:EDT
DTSTART:20230312T070000
END:DAYLIGHT
BEGIN:STANDARD
TZOFFSETFROM:-0400
TZOFFSETTO:-0500
TZNAME:EST
DTSTART:20231105T060000
END:STANDARD
END:VTIMEZONE
BEGIN:VEVENT
DTSTART;TZID=America/New_York:20231128T190000
DTEND;TZID=America/New_York:20231128T210000
DTSTAMP:20260419T160722
CREATED:20230921T163546Z
LAST-MODIFIED:20230928T131501Z
UID:11360-1701198000-1701205200@liwoodworkers.org
SUMMARY:Carvers Meeting - Note location change! Knight's of Columbus King Park
DESCRIPTION:
URL:https://liwoodworkers.org/event/carvers-meeting-note-location-change/
LOCATION:Knights of Columbus\, 44 Church St\, Kings Park\, NY\, United States
END:VEVENT
END:VCALENDAR