BEGIN:VCALENDAR
VERSION:2.0
PRODID:-//The Long Island Woodworkers - ECPv4.9.9//NONSGML v1.0//EN
CALSCALE:GREGORIAN
METHOD:PUBLISH
X-WR-CALNAME:The Long Island Woodworkers
X-ORIGINAL-URL:https://liwoodworkers.org
X-WR-CALDESC:Events for The Long Island Woodworkers
BEGIN:VTIMEZONE
TZID:America/New_York
BEGIN:DAYLIGHT
TZOFFSETFROM:-0500
TZOFFSETTO:-0400
TZNAME:EDT
DTSTART:20240310T070000
END:DAYLIGHT
BEGIN:STANDARD
TZOFFSETFROM:-0400
TZOFFSETTO:-0500
TZNAME:EST
DTSTART:20241103T060000
END:STANDARD
END:VTIMEZONE
BEGIN:VEVENT
DTSTART;TZID=America/New_York:20240420T090000
DTEND;TZID=America/New_York:20240420T160000
DTSTAMP:20260420T204614
CREATED:20240402T184747Z
LAST-MODIFIED:20240403T105015Z
UID:11856-1713603600-1713628800@liwoodworkers.org
SUMMARY:Carving Workshop
DESCRIPTION:Master Carver Steve Meltzer will instruct participants in chip carving on Saturday\, April 27th from 9 am to 4 pm at Corey Tighe's shop 150 Hewlett Ave. East Patchogue\, NY.  Cost is $100 for LI Woodworker members and $120 for non-members\, lunch included (pizza and beverage). \n
URL:https://liwoodworkers.org/event/carving-workshop/
LOCATION:Corey’s shop\, 150 Hewlett Ave\, East Patchogue\, NY\, 11772\, United States
END:VEVENT
END:VCALENDAR