BEGIN:VCALENDAR
VERSION:2.0
PRODID:-//The Long Island Woodworkers - ECPv4.9.9//NONSGML v1.0//EN
CALSCALE:GREGORIAN
METHOD:PUBLISH
X-WR-CALNAME:The Long Island Woodworkers
X-ORIGINAL-URL:https://liwoodworkers.org
X-WR-CALDESC:Events for The Long Island Woodworkers
BEGIN:VTIMEZONE
TZID:America/New_York
BEGIN:DAYLIGHT
TZOFFSETFROM:-0500
TZOFFSETTO:-0400
TZNAME:EDT
DTSTART:20180311T070000
END:DAYLIGHT
BEGIN:STANDARD
TZOFFSETFROM:-0400
TZOFFSETTO:-0500
TZNAME:EST
DTSTART:20181104T060000
END:STANDARD
END:VTIMEZONE
BEGIN:VEVENT
DTSTART;TZID=America/New_York:20180327T190000
DTEND;TZID=America/New_York:20180327T210000
DTSTAMP:20260420T202546
CREATED:20180221T152011Z
LAST-MODIFIED:20180221T152011Z
UID:3352-1522177200-1522184400@liwoodworkers.org
SUMMARY:Gary Rogowski
DESCRIPTION:Coming to the Brush Barn on Tuesday\, March 27th will be Gary Rogowski\, the Director of The Northwest Woodworking Studio. Gary is also a renowned author and contributor to Fine Woodworking and International Instructor. Gary will be discussing general woodworking techniques and his new book “Handmade – Creative Focus In The Age of Distraction” The presentation will start @ 7pm. Cost will be $20.00 per person. \n
URL:https://liwoodworkers.org/event/gary-rogowski/
LOCATION:Frank Brush Barn\, 211 Middle Country Road\, Smithtown\, United States
END:VEVENT
END:VCALENDAR