BEGIN:VCALENDAR
VERSION:2.0
PRODID:-//The Long Island Woodworkers - ECPv4.9.9//NONSGML v1.0//EN
CALSCALE:GREGORIAN
METHOD:PUBLISH
X-WR-CALNAME:The Long Island Woodworkers
X-ORIGINAL-URL:https://liwoodworkers.org
X-WR-CALDESC:Events for The Long Island Woodworkers
BEGIN:VTIMEZONE
TZID:America/New_York
BEGIN:DAYLIGHT
TZOFFSETFROM:-0500
TZOFFSETTO:-0400
TZNAME:EDT
DTSTART:20190310T070000
END:DAYLIGHT
BEGIN:STANDARD
TZOFFSETFROM:-0400
TZOFFSETTO:-0500
TZNAME:EST
DTSTART:20191103T060000
END:STANDARD
END:VTIMEZONE
BEGIN:VEVENT
DTSTART;TZID=America/New_York:20190322T100000
DTEND;TZID=America/New_York:20190322T180000
DTSTAMP:20260420T051245
CREATED:20190304T161255Z
LAST-MODIFIED:20190304T161255Z
UID:5142-1553248800-1553277600@liwoodworkers.org
SUMMARY:Hand Tool Event at Urban Specialty Woods
DESCRIPTION:
URL:https://liwoodworkers.org/event/hand-tool-event-at-urban-specialty-woods-2/
LOCATION:Urban Specialty Woods\, 257 Broadway\, Huntington Station\, 11746\, United States
END:VEVENT
END:VCALENDAR