BEGIN:VCALENDAR
VERSION:2.0
PRODID:-//The Long Island Woodworkers - ECPv4.9.9//NONSGML v1.0//EN
CALSCALE:GREGORIAN
METHOD:PUBLISH
X-WR-CALNAME:The Long Island Woodworkers
X-ORIGINAL-URL:https://liwoodworkers.org
X-WR-CALDESC:Events for The Long Island Woodworkers
BEGIN:VTIMEZONE
TZID:America/New_York
BEGIN:DAYLIGHT
TZOFFSETFROM:-0500
TZOFFSETTO:-0400
TZNAME:EDT
DTSTART:20170312T070000
END:DAYLIGHT
BEGIN:STANDARD
TZOFFSETFROM:-0400
TZOFFSETTO:-0500
TZNAME:EST
DTSTART:20171105T060000
END:STANDARD
END:VTIMEZONE
BEGIN:VEVENT
DTSTART;TZID=America/New_York:20171022T090000
DTEND;TZID=America/New_York:20171022T120000
DTSTAMP:20260420T013050
CREATED:20171019T132523Z
LAST-MODIFIED:20171019T132523Z
UID:2912-1508662800-1508673600@liwoodworkers.org
SUMMARY:JEFF MILLER'S SHAKER SIDE TABLE CLASS
DESCRIPTION:Jeff Miller\, one for the most renowned furniture and chair makers in the US\, and a contributor to Fine\nWoodworking is coming to town. For the Friday to Sunday\, October 20-22nd\, he will be giving a class\non a Shaker Side Table (please note the table in the photo is not the exact table\, but is a similar type.\nHe will be demonstrating various techniques he has learned over the years\, both with hand tools and\nbody positioning that will be invaluable to all members. We rarely get this opportunity\, so please sign\nup early. There are two prices involved. The first is for the class\, which will be $110. For that we require\na $50 deposit; please bring a cash or a check along with Download and Print Application Form.\nSince wood is required\, we will provide a precut list. You can then simply bring those pieces to the\nclass. However\, Program Chairman Corey Tighe can provide the wood already precut for you\,as well\nas taper the legs\, in cherry\, for $100. Deadline for the wood is September 23rd. \nThe class will be held at the Barn.\nFriday Oct. 20: 6 pm to 9 pm\nSaturday 9 am to 5 pm\nSunday 9 am to 12 pm \n \nFor more information\, download and Print Application Form \n
URL:https://liwoodworkers.org/event/jeff-millers-shaker-side-table-class-3/
LOCATION:Frank Brush Barn\, 211 Middle Country Road\, Smithtown\, United States
END:VEVENT
END:VCALENDAR