BEGIN:VCALENDAR
VERSION:2.0
PRODID:-//The Long Island Woodworkers - ECPv4.9.9//NONSGML v1.0//EN
CALSCALE:GREGORIAN
METHOD:PUBLISH
X-WR-CALNAME:The Long Island Woodworkers
X-ORIGINAL-URL:https://liwoodworkers.org
X-WR-CALDESC:Events for The Long Island Woodworkers
BEGIN:VTIMEZONE
TZID:America/New_York
BEGIN:DAYLIGHT
TZOFFSETFROM:-0500
TZOFFSETTO:-0400
TZNAME:EDT
DTSTART:20170312T070000
END:DAYLIGHT
BEGIN:STANDARD
TZOFFSETFROM:-0400
TZOFFSETTO:-0500
TZNAME:EST
DTSTART:20171105T060000
END:STANDARD
END:VTIMEZONE
BEGIN:VEVENT
DTSTART;TZID=America/New_York:20171112T100000
DTEND;TZID=America/New_York:20171112T160000
DTSTAMP:20260419T214018
CREATED:20170423T000046Z
LAST-MODIFIED:20170423T000046Z
UID:2522-1510480800-1510502400@liwoodworkers.org
SUMMARY:LI Woodworkers Show
DESCRIPTION:
URL:https://liwoodworkers.org/event/li-woodworkers-show-2/
END:VEVENT
END:VCALENDAR