BEGIN:VCALENDAR
VERSION:2.0
PRODID:-//The Long Island Woodworkers - ECPv4.9.9//NONSGML v1.0//EN
CALSCALE:GREGORIAN
METHOD:PUBLISH
X-WR-CALNAME:The Long Island Woodworkers
X-ORIGINAL-URL:https://liwoodworkers.org
X-WR-CALDESC:Events for The Long Island Woodworkers
BEGIN:VTIMEZONE
TZID:America/New_York
BEGIN:DAYLIGHT
TZOFFSETFROM:-0500
TZOFFSETTO:-0400
TZNAME:EDT
DTSTART:20180311T070000
END:DAYLIGHT
BEGIN:STANDARD
TZOFFSETFROM:-0400
TZOFFSETTO:-0500
TZNAME:EST
DTSTART:20181104T060000
END:STANDARD
END:VTIMEZONE
BEGIN:VEVENT
DTSTART;TZID=America/New_York:20180310T100000
DTEND;TZID=America/New_York:20180310T170000
DTSTAMP:20260420T152215
CREATED:20180221T155253Z
LAST-MODIFIED:20180221T155253Z
UID:3401-1520676000-1520701200@liwoodworkers.org
SUMMARY:Lie-Neilsen Tool Event
DESCRIPTION:
URL:https://liwoodworkers.org/event/lie-neilsen-tool-event-2/
LOCATION:Urban Specialty Woods\, 257 Broadway\, Huntington Station\, 11746\, United States
END:VEVENT
END:VCALENDAR