BEGIN:VCALENDAR
VERSION:2.0
PRODID:-//The Long Island Woodworkers - ECPv4.9.9//NONSGML v1.0//EN
CALSCALE:GREGORIAN
METHOD:PUBLISH
X-WR-CALNAME:The Long Island Woodworkers
X-ORIGINAL-URL:https://liwoodworkers.org
X-WR-CALDESC:Events for The Long Island Woodworkers
BEGIN:VTIMEZONE
TZID:UTC
BEGIN:STANDARD
TZOFFSETFROM:+0000
TZOFFSETTO:+0000
TZNAME:UTC
DTSTART:20150101T000000
END:STANDARD
END:VTIMEZONE
BEGIN:VEVENT
DTSTART;TZID=UTC:20151104T190000
DTEND;TZID=UTC:20151104T190000
DTSTAMP:20260420T224108
CREATED:20151029T225450Z
LAST-MODIFIED:20151029T185546Z
UID:378-1446663600-1446663600@liwoodworkers.org
SUMMARY:LIW Monthly Meeting
DESCRIPTION:
URL:https://liwoodworkers.org/event/liw-monthly-meeting/
LOCATION:Frank Brush Barn\, 211 Middle Country Road\, Smithtown\, United States
END:VEVENT
END:VCALENDAR