BEGIN:VCALENDAR
VERSION:2.0
PRODID:-//The Long Island Woodworkers - ECPv4.9.9//NONSGML v1.0//EN
CALSCALE:GREGORIAN
METHOD:PUBLISH
X-WR-CALNAME:The Long Island Woodworkers
X-ORIGINAL-URL:https://liwoodworkers.org
X-WR-CALDESC:Events for The Long Island Woodworkers
BEGIN:VTIMEZONE
TZID:America/New_York
BEGIN:DAYLIGHT
TZOFFSETFROM:-0500
TZOFFSETTO:-0400
TZNAME:EDT
DTSTART:20180311T070000
END:DAYLIGHT
BEGIN:STANDARD
TZOFFSETFROM:-0400
TZOFFSETTO:-0500
TZNAME:EST
DTSTART:20181104T060000
END:STANDARD
END:VTIMEZONE
BEGIN:VEVENT
DTSTART;TZID=America/New_York:20180325T100000
DTEND;TZID=America/New_York:20180325T170000
DTSTAMP:20260420T215316
CREATED:20180221T152813Z
LAST-MODIFIED:20180221T152813Z
UID:3364-1521972000-1521997200@liwoodworkers.org
SUMMARY:Northeast Woodworkers Show
DESCRIPTION:
URL:https://liwoodworkers.org/event/northeast-woodworkers-show-3/
LOCATION:Saratoga Springs City Center
END:VEVENT
END:VCALENDAR