BEGIN:VCALENDAR
VERSION:2.0
PRODID:-//The Long Island Woodworkers - ECPv4.9.9//NONSGML v1.0//EN
CALSCALE:GREGORIAN
METHOD:PUBLISH
X-WR-CALNAME:The Long Island Woodworkers
X-ORIGINAL-URL:https://liwoodworkers.org
X-WR-CALDESC:Events for The Long Island Woodworkers
BEGIN:VTIMEZONE
TZID:America/New_York
BEGIN:DAYLIGHT
TZOFFSETFROM:-0500
TZOFFSETTO:-0400
TZNAME:EDT
DTSTART:20190310T070000
END:DAYLIGHT
BEGIN:STANDARD
TZOFFSETFROM:-0400
TZOFFSETTO:-0500
TZNAME:EST
DTSTART:20191103T060000
END:STANDARD
END:VTIMEZONE
BEGIN:VEVENT
DTSTART;TZID=America/New_York:20190117T190000
DTEND;TZID=America/New_York:20190117T210000
DTSTAMP:20260420T095058
CREATED:20181209T230538Z
LAST-MODIFIED:20190111T224723Z
UID:4778-1547751600-1547758800@liwoodworkers.org
SUMMARY:Scrollers Meeting
DESCRIPTION:Scrollers Meeting will be held in either the Brush Barn or the Epenetus Smith Tavern across from the barn. \n
URL:https://liwoodworkers.org/event/scrollers-meeting-location-to-be-announced-due-to-renovations-at-the-brush-barn/
END:VEVENT
END:VCALENDAR