BEGIN:VCALENDAR
VERSION:2.0
PRODID:-//The Long Island Woodworkers - ECPv4.9.9//NONSGML v1.0//EN
CALSCALE:GREGORIAN
METHOD:PUBLISH
X-WR-CALNAME:The Long Island Woodworkers
X-ORIGINAL-URL:https://liwoodworkers.org
X-WR-CALDESC:Events for The Long Island Woodworkers
BEGIN:VTIMEZONE
TZID:America/New_York
BEGIN:DAYLIGHT
TZOFFSETFROM:-0500
TZOFFSETTO:-0400
TZNAME:EDT
DTSTART:20170312T070000
END:DAYLIGHT
BEGIN:STANDARD
TZOFFSETFROM:-0400
TZOFFSETTO:-0500
TZNAME:EST
DTSTART:20171105T060000
END:STANDARD
END:VTIMEZONE
BEGIN:VEVENT
DTSTART;TZID=America/New_York:20171110T090000
DTEND;TZID=America/New_York:20171110T190000
DTSTAMP:20260419T202502
CREATED:20170422T235915Z
LAST-MODIFIED:20170422T235915Z
UID:2520-1510304400-1510340400@liwoodworkers.org
SUMMARY:Show set up
DESCRIPTION:
URL:https://liwoodworkers.org/event/show-set-up/
LOCATION:Old Bethpage Village Restoration\, 1303 Round Swamp Road\, Bethpage\, NY\, 11804\, United States
END:VEVENT
END:VCALENDAR