BEGIN:VCALENDAR
VERSION:2.0
PRODID:-//The Long Island Woodworkers - ECPv4.9.9//NONSGML v1.0//EN
CALSCALE:GREGORIAN
METHOD:PUBLISH
X-WR-CALNAME:The Long Island Woodworkers
X-ORIGINAL-URL:https://liwoodworkers.org
X-WR-CALDESC:Events for The Long Island Woodworkers
BEGIN:VTIMEZONE
TZID:America/New_York
BEGIN:DAYLIGHT
TZOFFSETFROM:-0500
TZOFFSETTO:-0400
TZNAME:EDT
DTSTART:20180311T070000
END:DAYLIGHT
BEGIN:STANDARD
TZOFFSETFROM:-0400
TZOFFSETTO:-0500
TZNAME:EST
DTSTART:20181104T060000
END:STANDARD
END:VTIMEZONE
BEGIN:VEVENT
DTSTART;TZID=America/New_York:20181109T080000
DTEND;TZID=America/New_York:20181109T190000
DTSTAMP:20260425T234004
CREATED:20180503T140227Z
LAST-MODIFIED:20180503T140227Z
UID:3864-1541750400-1541790000@liwoodworkers.org
SUMMARY:Show Setup
DESCRIPTION:
URL:https://liwoodworkers.org/event/show-setup/
LOCATION:Old Bethpage Village Restoration\, 1303 Round Swamp Road\, Bethpage\, NY\, 11804\, United States
END:VEVENT
END:VCALENDAR