BEGIN:VCALENDAR
VERSION:2.0
PRODID:-//The Long Island Woodworkers - ECPv4.9.9//NONSGML v1.0//EN
CALSCALE:GREGORIAN
METHOD:PUBLISH
X-WR-CALNAME:The Long Island Woodworkers
X-ORIGINAL-URL:https://liwoodworkers.org
X-WR-CALDESC:Events for The Long Island Woodworkers
BEGIN:VTIMEZONE
TZID:America/New_York
BEGIN:DAYLIGHT
TZOFFSETFROM:-0500
TZOFFSETTO:-0400
TZNAME:EDT
DTSTART:20240310T070000
END:DAYLIGHT
BEGIN:STANDARD
TZOFFSETFROM:-0400
TZOFFSETTO:-0500
TZNAME:EST
DTSTART:20241103T060000
END:STANDARD
END:VTIMEZONE
BEGIN:VEVENT
DTSTART;TZID=America/New_York:20241118T190000
DTEND;TZID=America/New_York:20241118T200000
DTSTAMP:20260420T180810
CREATED:20241115T144423Z
LAST-MODIFIED:20241115T144423Z
UID:12353-1731956400-1731960000@liwoodworkers.org
SUMMARY:Technology SIG Zoom Meeting
DESCRIPTION:
URL:https://liwoodworkers.org/event/technology-sig-zoom-meeting/
END:VEVENT
END:VCALENDAR