BEGIN:VCALENDAR
VERSION:2.0
PRODID:-//The Long Island Woodworkers - ECPv4.9.9//NONSGML v1.0//EN
CALSCALE:GREGORIAN
METHOD:PUBLISH
X-WR-CALNAME:The Long Island Woodworkers
X-ORIGINAL-URL:https://liwoodworkers.org
X-WR-CALDESC:Events for The Long Island Woodworkers
BEGIN:VTIMEZONE
TZID:America/New_York
BEGIN:DAYLIGHT
TZOFFSETFROM:-0500
TZOFFSETTO:-0400
TZNAME:EDT
DTSTART:20230312T070000
END:DAYLIGHT
BEGIN:STANDARD
TZOFFSETFROM:-0400
TZOFFSETTO:-0500
TZNAME:EST
DTSTART:20231105T060000
END:STANDARD
END:VTIMEZONE
BEGIN:VEVENT
DTSTART;TZID=America/New_York:20230309T190000
DTEND;TZID=America/New_York:20230309T210000
DTSTAMP:20260420T013505
CREATED:20230219T185907Z
LAST-MODIFIED:20230219T185907Z
UID:10912-1678388400-1678395600@liwoodworkers.org
SUMMARY:Turners Meeting - Pen Turning by Ed Piotrowski
DESCRIPTION:
URL:https://liwoodworkers.org/event/turners-meeting-pen-turning-by-ed-piotrowski/
LOCATION:Frank Brush Barn\, 211 Middle Country Road\, Smithtown\, United States
END:VEVENT
END:VCALENDAR