BEGIN:VCALENDAR
VERSION:2.0
PRODID:-//The Long Island Woodworkers - ECPv4.9.9//NONSGML v1.0//EN
CALSCALE:GREGORIAN
METHOD:PUBLISH
X-WR-CALNAME:The Long Island Woodworkers
X-ORIGINAL-URL:https://liwoodworkers.org
X-WR-CALDESC:Events for The Long Island Woodworkers
BEGIN:VTIMEZONE
TZID:America/New_York
BEGIN:DAYLIGHT
TZOFFSETFROM:-0500
TZOFFSETTO:-0400
TZNAME:EDT
DTSTART:20150308T070000
END:DAYLIGHT
BEGIN:STANDARD
TZOFFSETFROM:-0400
TZOFFSETTO:-0500
TZNAME:EST
DTSTART:20151101T060000
END:STANDARD
END:VTIMEZONE
BEGIN:VEVENT
DTSTART;TZID=America/New_York:20151112T190000
DTEND;TZID=America/New_York:20151112T190000
DTSTAMP:20260421T013127
CREATED:20151029T190518Z
LAST-MODIFIED:20151029T190518Z
UID:385-1447354800-1447354800@liwoodworkers.org
SUMMARY:Wood Turners Meeting
DESCRIPTION:
URL:https://liwoodworkers.org/event/wood-turners-meeting/
LOCATION:Frank Brush Barn\, 211 Middle Country Road\, Smithtown\, United States
END:VEVENT
END:VCALENDAR